BEGIN:VCALENDAR
VERSION:2.0
PRODID:-//wp-events-plugin.com//7.2.3.1//EN
TZID:America/Los_Angeles
X-WR-TIMEZONE:America/Los_Angeles
BEGIN:VEVENT
UID:0-244@smr.snowproportal.com
DTSTART;TZID=America/Los_Angeles:20260126T130000
DTEND;TZID=America/Los_Angeles:20260126T150000
DTSTAMP:20260124T223905Z
URL:https://smr.snowproportal.com/events/pop-up-park-smart-clinic/
SUMMARY:Pop-Up Park Smart Clinic
DESCRIPTION:Meet on the back deck at 1:00.  No uniform.  Clinician - Dan
    This is a two-hour clinic
CATEGORIES:Dual Discipline
END:VEVENT
BEGIN:VTIMEZONE
TZID:America/Los_Angeles
X-LIC-LOCATION:America/Los_Angeles
BEGIN:STANDARD
DTSTART:20251102T010000
TZOFFSETFROM:-0700
TZOFFSETTO:-0800
TZNAME:PST
END:STANDARD
END:VTIMEZONE
END:VCALENDAR